BEGIN:VCALENDAR
VERSION:2.0
PRODID:-//Salvation Army Boundless Vancouver - ECPv6.15.20//NONSGML v1.0//EN
CALSCALE:GREGORIAN
METHOD:PUBLISH
X-ORIGINAL-URL:https://salvationarmyvancouver.com
X-WR-CALDESC:Events for Salvation Army Boundless Vancouver
REFRESH-INTERVAL;VALUE=DURATION:PT1H
X-Robots-Tag:noindex
X-PUBLISHED-TTL:PT1H
BEGIN:VTIMEZONE
TZID:America/Vancouver
BEGIN:DAYLIGHT
TZOFFSETFROM:-0800
TZOFFSETTO:-0700
TZNAME:PDT
DTSTART:20250309T100000
END:DAYLIGHT
BEGIN:STANDARD
TZOFFSETFROM:-0700
TZOFFSETTO:-0800
TZNAME:PST
DTSTART:20251102T090000
END:STANDARD
BEGIN:DAYLIGHT
TZOFFSETFROM:-0800
TZOFFSETTO:-0700
TZNAME:PDT
DTSTART:20260308T100000
END:DAYLIGHT
BEGIN:STANDARD
TZOFFSETFROM:-0700
TZOFFSETTO:-0800
TZNAME:PST
DTSTART:20261101T090000
END:STANDARD
BEGIN:DAYLIGHT
TZOFFSETFROM:-0800
TZOFFSETTO:-0700
TZNAME:PDT
DTSTART:20270314T100000
END:DAYLIGHT
BEGIN:STANDARD
TZOFFSETFROM:-0700
TZOFFSETTO:-0800
TZNAME:PST
DTSTART:20271107T090000
END:STANDARD
BEGIN:DAYLIGHT
TZOFFSETFROM:-0800
TZOFFSETTO:-0700
TZNAME:PDT
DTSTART:20280312T100000
END:DAYLIGHT
BEGIN:STANDARD
TZOFFSETFROM:-0700
TZOFFSETTO:-0800
TZNAME:PST
DTSTART:20281105T090000
END:STANDARD
END:VTIMEZONE
BEGIN:VEVENT
DTSTART;TZID=America/Vancouver:20261109T100000
DTEND;TZID=America/Vancouver:20261212T130000
DTSTAMP:20260423T145912
CREATED:20260119T051829Z
LAST-MODIFIED:20260119T053242Z
UID:10000950-1794218400-1797080400@salvationarmyvancouver.com
SUMMARY:Seasonal Clothing Vouchers
DESCRIPTION:
URL:https://salvationarmyvancouver.com/event/seasonal-clothing-vouchers/2026-11-09/
LOCATION:Salvation Army Boundless Vancouver\, 3213 Fraser Street\, Vancouver\, BC\, V5V 4B8\, Canada
ATTACH;FMTTYPE=image/jpeg:https://salvationarmyvancouver.com/wp-content/uploads/2026/01/v0vmIIpcHG.jpg
ORGANIZER;CN="Salvation Army Boundless Vancouver":MAILTO:BoundlessVancouver.Hello@SalvationArmy.ca
END:VEVENT
BEGIN:VEVENT
DTSTART;TZID=America/Vancouver:20261110T100000
DTEND;TZID=America/Vancouver:20261213T130000
DTSTAMP:20260423T145912
CREATED:20260119T051829Z
LAST-MODIFIED:20260119T053242Z
UID:10000951-1794304800-1797166800@salvationarmyvancouver.com
SUMMARY:Seasonal Clothing Vouchers
DESCRIPTION:
URL:https://salvationarmyvancouver.com/event/seasonal-clothing-vouchers/2026-11-10/
LOCATION:Salvation Army Boundless Vancouver\, 3213 Fraser Street\, Vancouver\, BC\, V5V 4B8\, Canada
ATTACH;FMTTYPE=image/jpeg:https://salvationarmyvancouver.com/wp-content/uploads/2026/01/v0vmIIpcHG.jpg
ORGANIZER;CN="Salvation Army Boundless Vancouver":MAILTO:BoundlessVancouver.Hello@SalvationArmy.ca
END:VEVENT
BEGIN:VEVENT
DTSTART;TZID=America/Vancouver:20261116T100000
DTEND;TZID=America/Vancouver:20261219T130000
DTSTAMP:20260423T145912
CREATED:20260119T051829Z
LAST-MODIFIED:20260119T053242Z
UID:10000952-1794823200-1797685200@salvationarmyvancouver.com
SUMMARY:Seasonal Clothing Vouchers
DESCRIPTION:
URL:https://salvationarmyvancouver.com/event/seasonal-clothing-vouchers/2026-11-16/
LOCATION:Salvation Army Boundless Vancouver\, 3213 Fraser Street\, Vancouver\, BC\, V5V 4B8\, Canada
ATTACH;FMTTYPE=image/jpeg:https://salvationarmyvancouver.com/wp-content/uploads/2026/01/v0vmIIpcHG.jpg
ORGANIZER;CN="Salvation Army Boundless Vancouver":MAILTO:BoundlessVancouver.Hello@SalvationArmy.ca
END:VEVENT
BEGIN:VEVENT
DTSTART;TZID=America/Vancouver:20261117T100000
DTEND;TZID=America/Vancouver:20261220T130000
DTSTAMP:20260423T145912
CREATED:20260119T051829Z
LAST-MODIFIED:20260119T053242Z
UID:10000953-1794909600-1797771600@salvationarmyvancouver.com
SUMMARY:Seasonal Clothing Vouchers
DESCRIPTION:
URL:https://salvationarmyvancouver.com/event/seasonal-clothing-vouchers/2026-11-17/
LOCATION:Salvation Army Boundless Vancouver\, 3213 Fraser Street\, Vancouver\, BC\, V5V 4B8\, Canada
ATTACH;FMTTYPE=image/jpeg:https://salvationarmyvancouver.com/wp-content/uploads/2026/01/v0vmIIpcHG.jpg
ORGANIZER;CN="Salvation Army Boundless Vancouver":MAILTO:BoundlessVancouver.Hello@SalvationArmy.ca
END:VEVENT
BEGIN:VEVENT
DTSTART;TZID=America/Vancouver:20261123T100000
DTEND;TZID=America/Vancouver:20261226T130000
DTSTAMP:20260423T145912
CREATED:20260119T051829Z
LAST-MODIFIED:20260119T053242Z
UID:10000954-1795428000-1798290000@salvationarmyvancouver.com
SUMMARY:Seasonal Clothing Vouchers
DESCRIPTION:
URL:https://salvationarmyvancouver.com/event/seasonal-clothing-vouchers/2026-11-23/
LOCATION:Salvation Army Boundless Vancouver\, 3213 Fraser Street\, Vancouver\, BC\, V5V 4B8\, Canada
ATTACH;FMTTYPE=image/jpeg:https://salvationarmyvancouver.com/wp-content/uploads/2026/01/v0vmIIpcHG.jpg
ORGANIZER;CN="Salvation Army Boundless Vancouver":MAILTO:BoundlessVancouver.Hello@SalvationArmy.ca
END:VEVENT
BEGIN:VEVENT
DTSTART;TZID=America/Vancouver:20261124T100000
DTEND;TZID=America/Vancouver:20261227T130000
DTSTAMP:20260423T145912
CREATED:20260119T051829Z
LAST-MODIFIED:20260119T053242Z
UID:10000955-1795514400-1798376400@salvationarmyvancouver.com
SUMMARY:Seasonal Clothing Vouchers
DESCRIPTION:
URL:https://salvationarmyvancouver.com/event/seasonal-clothing-vouchers/2026-11-24/
LOCATION:Salvation Army Boundless Vancouver\, 3213 Fraser Street\, Vancouver\, BC\, V5V 4B8\, Canada
ATTACH;FMTTYPE=image/jpeg:https://salvationarmyvancouver.com/wp-content/uploads/2026/01/v0vmIIpcHG.jpg
ORGANIZER;CN="Salvation Army Boundless Vancouver":MAILTO:BoundlessVancouver.Hello@SalvationArmy.ca
END:VEVENT
BEGIN:VEVENT
DTSTART;TZID=America/Vancouver:20261130T100000
DTEND;TZID=America/Vancouver:20270102T130000
DTSTAMP:20260423T145912
CREATED:20260119T051829Z
LAST-MODIFIED:20260119T053242Z
UID:10000956-1796032800-1798894800@salvationarmyvancouver.com
SUMMARY:Seasonal Clothing Vouchers
DESCRIPTION:
URL:https://salvationarmyvancouver.com/event/seasonal-clothing-vouchers/2026-11-30/
LOCATION:Salvation Army Boundless Vancouver\, 3213 Fraser Street\, Vancouver\, BC\, V5V 4B8\, Canada
ATTACH;FMTTYPE=image/jpeg:https://salvationarmyvancouver.com/wp-content/uploads/2026/01/v0vmIIpcHG.jpg
ORGANIZER;CN="Salvation Army Boundless Vancouver":MAILTO:BoundlessVancouver.Hello@SalvationArmy.ca
END:VEVENT
BEGIN:VEVENT
DTSTART;TZID=America/Vancouver:20261201T100000
DTEND;TZID=America/Vancouver:20270103T130000
DTSTAMP:20260423T145912
CREATED:20260119T051829Z
LAST-MODIFIED:20260119T053242Z
UID:10000957-1796119200-1798981200@salvationarmyvancouver.com
SUMMARY:Seasonal Clothing Vouchers
DESCRIPTION:
URL:https://salvationarmyvancouver.com/event/seasonal-clothing-vouchers/2026-12-01/
LOCATION:Salvation Army Boundless Vancouver\, 3213 Fraser Street\, Vancouver\, BC\, V5V 4B8\, Canada
ATTACH;FMTTYPE=image/jpeg:https://salvationarmyvancouver.com/wp-content/uploads/2026/01/v0vmIIpcHG.jpg
ORGANIZER;CN="Salvation Army Boundless Vancouver":MAILTO:BoundlessVancouver.Hello@SalvationArmy.ca
END:VEVENT
BEGIN:VEVENT
DTSTART;TZID=America/Vancouver:20261207T100000
DTEND;TZID=America/Vancouver:20270109T130000
DTSTAMP:20260423T145912
CREATED:20260119T051829Z
LAST-MODIFIED:20260119T053242Z
UID:10000958-1796637600-1799499600@salvationarmyvancouver.com
SUMMARY:Seasonal Clothing Vouchers
DESCRIPTION:
URL:https://salvationarmyvancouver.com/event/seasonal-clothing-vouchers/2026-12-07/
LOCATION:Salvation Army Boundless Vancouver\, 3213 Fraser Street\, Vancouver\, BC\, V5V 4B8\, Canada
ATTACH;FMTTYPE=image/jpeg:https://salvationarmyvancouver.com/wp-content/uploads/2026/01/v0vmIIpcHG.jpg
ORGANIZER;CN="Salvation Army Boundless Vancouver":MAILTO:BoundlessVancouver.Hello@SalvationArmy.ca
END:VEVENT
BEGIN:VEVENT
DTSTART;TZID=America/Vancouver:20261208T100000
DTEND;TZID=America/Vancouver:20270110T130000
DTSTAMP:20260423T145912
CREATED:20260119T051829Z
LAST-MODIFIED:20260119T053242Z
UID:10000959-1796724000-1799586000@salvationarmyvancouver.com
SUMMARY:Seasonal Clothing Vouchers
DESCRIPTION:
URL:https://salvationarmyvancouver.com/event/seasonal-clothing-vouchers/2026-12-08/
LOCATION:Salvation Army Boundless Vancouver\, 3213 Fraser Street\, Vancouver\, BC\, V5V 4B8\, Canada
ATTACH;FMTTYPE=image/jpeg:https://salvationarmyvancouver.com/wp-content/uploads/2026/01/v0vmIIpcHG.jpg
ORGANIZER;CN="Salvation Army Boundless Vancouver":MAILTO:BoundlessVancouver.Hello@SalvationArmy.ca
END:VEVENT
END:VCALENDAR