BEGIN:VCALENDAR
VERSION:2.0
PRODID:-//Salvation Army Boundless Vancouver - ECPv6.15.20//NONSGML v1.0//EN
CALSCALE:GREGORIAN
METHOD:PUBLISH
X-WR-CALNAME:Salvation Army Boundless Vancouver
X-ORIGINAL-URL:https://salvationarmyvancouver.com
X-WR-CALDESC:Events for Salvation Army Boundless Vancouver
REFRESH-INTERVAL;VALUE=DURATION:PT1H
X-Robots-Tag:noindex
X-PUBLISHED-TTL:PT1H
BEGIN:VTIMEZONE
TZID:America/Vancouver
BEGIN:DAYLIGHT
TZOFFSETFROM:-0800
TZOFFSETTO:-0700
TZNAME:PDT
DTSTART:20250309T100000
END:DAYLIGHT
BEGIN:STANDARD
TZOFFSETFROM:-0700
TZOFFSETTO:-0800
TZNAME:PST
DTSTART:20251102T090000
END:STANDARD
BEGIN:DAYLIGHT
TZOFFSETFROM:-0800
TZOFFSETTO:-0700
TZNAME:PDT
DTSTART:20260308T100000
END:DAYLIGHT
BEGIN:STANDARD
TZOFFSETFROM:-0700
TZOFFSETTO:-0800
TZNAME:PST
DTSTART:20261101T090000
END:STANDARD
BEGIN:DAYLIGHT
TZOFFSETFROM:-0800
TZOFFSETTO:-0700
TZNAME:PDT
DTSTART:20270314T100000
END:DAYLIGHT
BEGIN:STANDARD
TZOFFSETFROM:-0700
TZOFFSETTO:-0800
TZNAME:PST
DTSTART:20271107T090000
END:STANDARD
END:VTIMEZONE
BEGIN:VEVENT
DTSTART;TZID=America/Vancouver:20261019T100000
DTEND;TZID=America/Vancouver:20261121T120000
DTSTAMP:20260423T100137
CREATED:20260119T051829Z
LAST-MODIFIED:20260119T053242Z
UID:10000944-1792404000-1795262400@salvationarmyvancouver.com
SUMMARY:Seasonal Clothing Vouchers
DESCRIPTION:
URL:https://salvationarmyvancouver.com/event/seasonal-clothing-vouchers/2026-10-19/
LOCATION:Salvation Army Boundless Vancouver\, 3213 Fraser Street\, Vancouver\, BC\, V5V 4B8\, Canada
ATTACH;FMTTYPE=image/jpeg:https://salvationarmyvancouver.com/wp-content/uploads/2026/01/v0vmIIpcHG.jpg
ORGANIZER;CN="Salvation Army Boundless Vancouver":MAILTO:BoundlessVancouver.Hello@SalvationArmy.ca
END:VEVENT
BEGIN:VEVENT
DTSTART;TZID=America/Vancouver:20261020T100000
DTEND;TZID=America/Vancouver:20261122T120000
DTSTAMP:20260423T100137
CREATED:20260119T051829Z
LAST-MODIFIED:20260119T053242Z
UID:10000945-1792490400-1795348800@salvationarmyvancouver.com
SUMMARY:Seasonal Clothing Vouchers
DESCRIPTION:
URL:https://salvationarmyvancouver.com/event/seasonal-clothing-vouchers/2026-10-20/
LOCATION:Salvation Army Boundless Vancouver\, 3213 Fraser Street\, Vancouver\, BC\, V5V 4B8\, Canada
ATTACH;FMTTYPE=image/jpeg:https://salvationarmyvancouver.com/wp-content/uploads/2026/01/v0vmIIpcHG.jpg
ORGANIZER;CN="Salvation Army Boundless Vancouver":MAILTO:BoundlessVancouver.Hello@SalvationArmy.ca
END:VEVENT
BEGIN:VEVENT
DTSTART;TZID=America/Vancouver:20261026T100000
DTEND;TZID=America/Vancouver:20261128T120000
DTSTAMP:20260423T100137
CREATED:20260119T051829Z
LAST-MODIFIED:20260119T053242Z
UID:10000946-1793008800-1795867200@salvationarmyvancouver.com
SUMMARY:Seasonal Clothing Vouchers
DESCRIPTION:
URL:https://salvationarmyvancouver.com/event/seasonal-clothing-vouchers/2026-10-26/
LOCATION:Salvation Army Boundless Vancouver\, 3213 Fraser Street\, Vancouver\, BC\, V5V 4B8\, Canada
ATTACH;FMTTYPE=image/jpeg:https://salvationarmyvancouver.com/wp-content/uploads/2026/01/v0vmIIpcHG.jpg
ORGANIZER;CN="Salvation Army Boundless Vancouver":MAILTO:BoundlessVancouver.Hello@SalvationArmy.ca
END:VEVENT
BEGIN:VEVENT
DTSTART;TZID=America/Vancouver:20261027T100000
DTEND;TZID=America/Vancouver:20261129T120000
DTSTAMP:20260423T100137
CREATED:20260119T051829Z
LAST-MODIFIED:20260119T053242Z
UID:10000947-1793095200-1795953600@salvationarmyvancouver.com
SUMMARY:Seasonal Clothing Vouchers
DESCRIPTION:
URL:https://salvationarmyvancouver.com/event/seasonal-clothing-vouchers/2026-10-27/
LOCATION:Salvation Army Boundless Vancouver\, 3213 Fraser Street\, Vancouver\, BC\, V5V 4B8\, Canada
ATTACH;FMTTYPE=image/jpeg:https://salvationarmyvancouver.com/wp-content/uploads/2026/01/v0vmIIpcHG.jpg
ORGANIZER;CN="Salvation Army Boundless Vancouver":MAILTO:BoundlessVancouver.Hello@SalvationArmy.ca
END:VEVENT
BEGIN:VEVENT
DTSTART;TZID=America/Vancouver:20261102T100000
DTEND;TZID=America/Vancouver:20261205T130000
DTSTAMP:20260423T100137
CREATED:20260119T051829Z
LAST-MODIFIED:20260119T053242Z
UID:10000948-1793613600-1796475600@salvationarmyvancouver.com
SUMMARY:Seasonal Clothing Vouchers
DESCRIPTION:
URL:https://salvationarmyvancouver.com/event/seasonal-clothing-vouchers/2026-11-02/
LOCATION:Salvation Army Boundless Vancouver\, 3213 Fraser Street\, Vancouver\, BC\, V5V 4B8\, Canada
ATTACH;FMTTYPE=image/jpeg:https://salvationarmyvancouver.com/wp-content/uploads/2026/01/v0vmIIpcHG.jpg
ORGANIZER;CN="Salvation Army Boundless Vancouver":MAILTO:BoundlessVancouver.Hello@SalvationArmy.ca
END:VEVENT
BEGIN:VEVENT
DTSTART;TZID=America/Vancouver:20261103T100000
DTEND;TZID=America/Vancouver:20261206T130000
DTSTAMP:20260423T100137
CREATED:20260119T051829Z
LAST-MODIFIED:20260119T053242Z
UID:10000949-1793700000-1796562000@salvationarmyvancouver.com
SUMMARY:Seasonal Clothing Vouchers
DESCRIPTION:
URL:https://salvationarmyvancouver.com/event/seasonal-clothing-vouchers/2026-11-03/
LOCATION:Salvation Army Boundless Vancouver\, 3213 Fraser Street\, Vancouver\, BC\, V5V 4B8\, Canada
ATTACH;FMTTYPE=image/jpeg:https://salvationarmyvancouver.com/wp-content/uploads/2026/01/v0vmIIpcHG.jpg
ORGANIZER;CN="Salvation Army Boundless Vancouver":MAILTO:BoundlessVancouver.Hello@SalvationArmy.ca
END:VEVENT
BEGIN:VEVENT
DTSTART;TZID=America/Vancouver:20261109T100000
DTEND;TZID=America/Vancouver:20261212T130000
DTSTAMP:20260423T100137
CREATED:20260119T051829Z
LAST-MODIFIED:20260119T053242Z
UID:10000950-1794218400-1797080400@salvationarmyvancouver.com
SUMMARY:Seasonal Clothing Vouchers
DESCRIPTION:
URL:https://salvationarmyvancouver.com/event/seasonal-clothing-vouchers/2026-11-09/
LOCATION:Salvation Army Boundless Vancouver\, 3213 Fraser Street\, Vancouver\, BC\, V5V 4B8\, Canada
ATTACH;FMTTYPE=image/jpeg:https://salvationarmyvancouver.com/wp-content/uploads/2026/01/v0vmIIpcHG.jpg
ORGANIZER;CN="Salvation Army Boundless Vancouver":MAILTO:BoundlessVancouver.Hello@SalvationArmy.ca
END:VEVENT
BEGIN:VEVENT
DTSTART;TZID=America/Vancouver:20261110T100000
DTEND;TZID=America/Vancouver:20261213T130000
DTSTAMP:20260423T100137
CREATED:20260119T051829Z
LAST-MODIFIED:20260119T053242Z
UID:10000951-1794304800-1797166800@salvationarmyvancouver.com
SUMMARY:Seasonal Clothing Vouchers
DESCRIPTION:
URL:https://salvationarmyvancouver.com/event/seasonal-clothing-vouchers/2026-11-10/
LOCATION:Salvation Army Boundless Vancouver\, 3213 Fraser Street\, Vancouver\, BC\, V5V 4B8\, Canada
ATTACH;FMTTYPE=image/jpeg:https://salvationarmyvancouver.com/wp-content/uploads/2026/01/v0vmIIpcHG.jpg
ORGANIZER;CN="Salvation Army Boundless Vancouver":MAILTO:BoundlessVancouver.Hello@SalvationArmy.ca
END:VEVENT
BEGIN:VEVENT
DTSTART;TZID=America/Vancouver:20261116T100000
DTEND;TZID=America/Vancouver:20261219T130000
DTSTAMP:20260423T100137
CREATED:20260119T051829Z
LAST-MODIFIED:20260119T053242Z
UID:10000952-1794823200-1797685200@salvationarmyvancouver.com
SUMMARY:Seasonal Clothing Vouchers
DESCRIPTION:
URL:https://salvationarmyvancouver.com/event/seasonal-clothing-vouchers/2026-11-16/
LOCATION:Salvation Army Boundless Vancouver\, 3213 Fraser Street\, Vancouver\, BC\, V5V 4B8\, Canada
ATTACH;FMTTYPE=image/jpeg:https://salvationarmyvancouver.com/wp-content/uploads/2026/01/v0vmIIpcHG.jpg
ORGANIZER;CN="Salvation Army Boundless Vancouver":MAILTO:BoundlessVancouver.Hello@SalvationArmy.ca
END:VEVENT
BEGIN:VEVENT
DTSTART;TZID=America/Vancouver:20261117T100000
DTEND;TZID=America/Vancouver:20261220T130000
DTSTAMP:20260423T100137
CREATED:20260119T051829Z
LAST-MODIFIED:20260119T053242Z
UID:10000953-1794909600-1797771600@salvationarmyvancouver.com
SUMMARY:Seasonal Clothing Vouchers
DESCRIPTION:
URL:https://salvationarmyvancouver.com/event/seasonal-clothing-vouchers/2026-11-17/
LOCATION:Salvation Army Boundless Vancouver\, 3213 Fraser Street\, Vancouver\, BC\, V5V 4B8\, Canada
ATTACH;FMTTYPE=image/jpeg:https://salvationarmyvancouver.com/wp-content/uploads/2026/01/v0vmIIpcHG.jpg
ORGANIZER;CN="Salvation Army Boundless Vancouver":MAILTO:BoundlessVancouver.Hello@SalvationArmy.ca
END:VEVENT
END:VCALENDAR