BEGIN:VCALENDAR
VERSION:2.0
PRODID:-//Salvation Army Boundless Vancouver - ECPv6.15.20//NONSGML v1.0//EN
CALSCALE:GREGORIAN
METHOD:PUBLISH
X-ORIGINAL-URL:https://salvationarmyvancouver.com
X-WR-CALDESC:Events for Salvation Army Boundless Vancouver
REFRESH-INTERVAL;VALUE=DURATION:PT1H
X-Robots-Tag:noindex
X-PUBLISHED-TTL:PT1H
BEGIN:VTIMEZONE
TZID:America/Vancouver
BEGIN:DAYLIGHT
TZOFFSETFROM:-0800
TZOFFSETTO:-0700
TZNAME:PDT
DTSTART:20240310T100000
END:DAYLIGHT
BEGIN:STANDARD
TZOFFSETFROM:-0700
TZOFFSETTO:-0800
TZNAME:PST
DTSTART:20241103T090000
END:STANDARD
BEGIN:DAYLIGHT
TZOFFSETFROM:-0800
TZOFFSETTO:-0700
TZNAME:PDT
DTSTART:20250309T100000
END:DAYLIGHT
BEGIN:STANDARD
TZOFFSETFROM:-0700
TZOFFSETTO:-0800
TZNAME:PST
DTSTART:20251102T090000
END:STANDARD
BEGIN:DAYLIGHT
TZOFFSETFROM:-0800
TZOFFSETTO:-0700
TZNAME:PDT
DTSTART:20260308T100000
END:DAYLIGHT
BEGIN:STANDARD
TZOFFSETFROM:-0700
TZOFFSETTO:-0800
TZNAME:PST
DTSTART:20261101T090000
END:STANDARD
END:VTIMEZONE
BEGIN:VEVENT
DTSTART;VALUE=DATE:20251203
DTEND;VALUE=DATE:20251219
DTSTAMP:20260425T061736
CREATED:20251021T183502Z
LAST-MODIFIED:20251118T221049Z
UID:10000601-1764720000-1766102399@salvationarmyvancouver.com
SUMMARY:Christmas Toy Shop
DESCRIPTION:
URL:https://salvationarmyvancouver.com/services/christmas-toy-shop/
LOCATION:Salvation Army Boundless Vancouver\, 3213 Fraser Street\, Vancouver\, BC\, V5V 4B8\, Canada
CATEGORIES:Featured
ATTACH;FMTTYPE=image/jpeg:https://salvationarmyvancouver.com/wp-content/uploads/2020/11/christmas-1-scaled.jpg
END:VEVENT
END:VCALENDAR